BEGIN:VCALENDAR
VERSION:2.0
PRODID:-//Royal New York - ECPv5.16.0//NONSGML v1.0//EN
CALSCALE:GREGORIAN
METHOD:PUBLISH
X-WR-CALNAME:Royal New York
X-ORIGINAL-URL:https://www.royalny.com
X-WR-CALDESC:Events for Royal New York
BEGIN:VTIMEZONE
TZID:America/New_York
BEGIN:DAYLIGHT
TZOFFSETFROM:-0500
TZOFFSETTO:-0400
TZNAME:EDT
DTSTART:20230312T070000
END:DAYLIGHT
BEGIN:STANDARD
TZOFFSETFROM:-0400
TZOFFSETTO:-0500
TZNAME:EST
DTSTART:20231105T060000
END:STANDARD
END:VTIMEZONE
BEGIN:VEVENT
DTSTART;TZID=America/New_York:20230222T090000
DTEND;TZID=America/New_York:20230222T170000
DTSTAMP:20260419T140348
CREATED:20221116T171204Z
LAST-MODIFIED:20230222T200018Z
UID:90593-1677056400-1677085200@www.royalny.com
SUMMARY:SCA Sensory Skills Foundation
DESCRIPTION:
URL:https://www.royalny.com/course/sca-sensory-skills-foundation/
LOCATION:The Lab\, 650 Hadley Road\, South Plainfield\, New Jersey\, 07080\, United States
CATEGORIES:Accredited Courses (CQI / SCA),Custom
ATTACH;FMTTYPE=image/png:https://royalny-coffee.s3.amazonaws.com/live/uploads/2022/11/05133003/3-1.png
END:VEVENT
END:VCALENDAR