BEGIN:VCALENDAR
VERSION:2.0
PRODID:-//Royal New York - ECPv5.16.0//NONSGML v1.0//EN
CALSCALE:GREGORIAN
METHOD:PUBLISH
X-WR-CALNAME:Royal New York
X-ORIGINAL-URL:https://www.royalny.com
X-WR-CALDESC:Events for Royal New York
BEGIN:VTIMEZONE
TZID:America/New_York
BEGIN:DAYLIGHT
TZOFFSETFROM:-0500
TZOFFSETTO:-0400
TZNAME:EDT
DTSTART:20200308T070000
END:DAYLIGHT
BEGIN:STANDARD
TZOFFSETFROM:-0400
TZOFFSETTO:-0500
TZNAME:EST
DTSTART:20201101T060000
END:STANDARD
END:VTIMEZONE
BEGIN:VEVENT
DTSTART;TZID=America/New_York:20201005T090000
DTEND;TZID=America/New_York:20201005T140000
DTSTAMP:20260423T091106
CREATED:20200909T124215Z
LAST-MODIFIED:20200909T124458Z
UID:61155-1601888400-1601906400@www.royalny.com
SUMMARY:Loring Roaster Demonstration
DESCRIPTION:
URL:https://www.royalny.com/course/roaster-demo-loring-10-5/
LOCATION:The Lab\, 650 Hadley Road\, South Plainfield\, New Jersey\, 07080\, United States
CATEGORIES:Coffee,Custom,Misc.
ATTACH;FMTTYPE=image/jpeg:https://royalny-coffee.s3.amazonaws.com/live/uploads/2020/01/13095601/RoyalC08042016-0876.jpg
END:VEVENT
END:VCALENDAR