BEGIN:VCALENDAR
VERSION:2.0
PRODID:-//Royal New York - ECPv5.16.0//NONSGML v1.0//EN
CALSCALE:GREGORIAN
METHOD:PUBLISH
X-WR-CALNAME:Royal New York
X-ORIGINAL-URL:https://www.royalny.com
X-WR-CALDESC:Events for Royal New York
BEGIN:VTIMEZONE
TZID:America/New_York
BEGIN:DAYLIGHT
TZOFFSETFROM:-0500
TZOFFSETTO:-0400
TZNAME:EDT
DTSTART:20200308T070000
END:DAYLIGHT
BEGIN:STANDARD
TZOFFSETFROM:-0400
TZOFFSETTO:-0500
TZNAME:EST
DTSTART:20201101T060000
END:STANDARD
END:VTIMEZONE
BEGIN:VEVENT
DTSTART;TZID=America/New_York:20200409T090000
DTEND;TZID=America/New_York:20200409T130000
DTSTAMP:20260420T013538
CREATED:20200210T164357Z
LAST-MODIFIED:20200406T191601Z
UID:48379-1586422800-1586437200@www.royalny.com
SUMMARY:Introduction to Coffee - SCA Course - postponed\, new date TBD
DESCRIPTION:
URL:https://www.royalny.com/course/introduction-to-coffee-sca-class-2/
LOCATION:The Lab\, 650 Hadley Road\, South Plainfield\, New Jersey\, 07080\, United States
CATEGORIES:Accredited Courses (CQI / SCA),Coffee,Misc.
ATTACH;FMTTYPE=image/jpeg:https://royalny-coffee.s3.amazonaws.com/live/uploads/2019/08/13100818/AB-PICS-07-131-1.jpg
END:VEVENT
END:VCALENDAR