BEGIN:VCALENDAR
VERSION:2.0
PRODID:-//Royal New York - ECPv5.16.0//NONSGML v1.0//EN
CALSCALE:GREGORIAN
METHOD:PUBLISH
X-WR-CALNAME:Royal New York
X-ORIGINAL-URL:https://www.royalny.com
X-WR-CALDESC:Events for Royal New York
BEGIN:VTIMEZONE
TZID:America/New_York
BEGIN:DAYLIGHT
TZOFFSETFROM:-0500
TZOFFSETTO:-0400
TZNAME:EDT
DTSTART:20200308T070000
END:DAYLIGHT
BEGIN:STANDARD
TZOFFSETFROM:-0400
TZOFFSETTO:-0500
TZNAME:EST
DTSTART:20201101T060000
END:STANDARD
END:VTIMEZONE
BEGIN:VEVENT
DTSTART;TZID=America/New_York:20200512T090000
DTEND;TZID=America/New_York:20200512T160000
DTSTAMP:20260419T235949
CREATED:20200210T173821Z
LAST-MODIFIED:20200511T184409Z
UID:48413-1589274000-1589299200@www.royalny.com
SUMMARY:Advanced Coffee Analysis and Grading - postponed new date TBD
DESCRIPTION:
URL:https://www.royalny.com/course/advanced-coffee-analysis-and-grading-1/
LOCATION:The Lab\, 650 Hadley Road\, South Plainfield\, New Jersey\, 07080\, United States
CATEGORIES:Coffee,Misc.
ATTACH;FMTTYPE=image/jpeg:https://royalny-coffee.s3.amazonaws.com/live/uploads/2019/08/13100835/Photo-Nov-09-8-04-04-AM.jpg
ORGANIZER;CN="Zoey%20Thorson":MAILTO:education@royalny.com
END:VEVENT
END:VCALENDAR